{
 "currentVersion": 11.3,
 "cimVersion": "3.3.0",
 "serviceDescription": " Limite de la commune<\/span><\/p><\/div><\/div>",
 "mapName": "Limite commune",
 "description": "Limite de la commune",
 "copyrightText": "Limite de la commune/2023",
 "supportsDynamicLayers": true,
 "layers": [
  {
   "id": 0,
   "name": "Commune",
   "parentLayerId": -1,
   "defaultVisibility": true,
   "subLayerIds": null,
   "minScale": 0,
   "maxScale": 0,
   "type": "Feature Layer",
   "geometryType": "esriGeometryPolygon",
   "supportsDynamicLegends": true
  }
 ],
 "tables": [],
 "spatialReference": {
  "wkid": 3949,
  "latestWkid": 3949,
  "xyTolerance": 2.0E-4,
  "zTolerance": 0.001,
  "mTolerance": 0.001,
  "falseX": -34427400,
  "falseY": -22373000,
  "xyUnits": 1.2465883587998292E8,
  "falseZ": -100000,
  "zUnits": 10000,
  "falseM": -100000,
  "mUnits": 10000
 },
 "singleFusedMapCache": true,
 "tileInfo": {
  "rows": 256,
  "cols": 256,
  "dpi": 96,
  "format": "PNG",
  "compressionQuality": 0,
  "origin": {
   "x": -34427400,
   "y": 49881800
  },
  "spatialReference": {
   "wkid": 3949,
   "latestWkid": 3949,
   "xyTolerance": 0.001,
   "zTolerance": 0.001,
   "mTolerance": 0.001,
   "falseX": -34427400,
   "falseY": -22373000,
   "xyUnits": 1.2465883587998292E8,
   "falseZ": -100000,
   "zUnits": 10000,
   "falseM": -100000,
   "mUnits": 10000
  },
  "lods": [
   {
    "level": 0,
    "resolution": 16.933367200067735,
    "scale": 64000
   },
   {
    "level": 1,
    "resolution": 8.466683600033868,
    "scale": 32000
   },
   {
    "level": 2,
    "resolution": 4.233341800016934,
    "scale": 16000
   },
   {
    "level": 3,
    "resolution": 2.116670900008467,
    "scale": 8000
   },
   {
    "level": 4,
    "resolution": 1.3229193125052918,
    "scale": 5000
   },
   {
    "level": 5,
    "resolution": 1.0583354500042335,
    "scale": 4000
   },
   {
    "level": 6,
    "resolution": 0.5291677250021167,
    "scale": 2000
   },
   {
    "level": 7,
    "resolution": 0.26458386250105836,
    "scale": 1000
   },
   {
    "level": 8,
    "resolution": 0.13229193125052918,
    "scale": 500
   },
   {
    "level": 9,
    "resolution": 0.06614596562526459,
    "scale": 250
   },
   {
    "level": 10,
    "resolution": 0.026458386250105836,
    "scale": 100
   }
  ]
 },
 "storageInfo": {
  "storageFormat": "esriMapCacheStorageModeCompactV2",
  "packetSize": 128
 },
 "initialExtent": {
  "xmin": 1636900.727367138,
  "ymin": 8183571.0712518385,
  "xmax": 1642684.0561751747,
  "ymax": 8188668.817654227,
  "spatialReference": {
   "wkid": 3949,
   "latestWkid": 3949,
   "xyTolerance": 2.0E-4,
   "zTolerance": 0.001,
   "mTolerance": 0.001,
   "falseX": -34427400,
   "falseY": -22373000,
   "xyUnits": 1.2465883587998292E8,
   "falseZ": -100000,
   "zUnits": 10000,
   "falseM": -100000,
   "mUnits": 10000
  }
 },
 "fullExtent": {
  "xmin": 1637502.0900000036,
  "ymin": 8183402.390000001,
  "xmax": 1642291.1300000027,
  "ymax": 8188749.539999999,
  "spatialReference": {
   "wkid": 3949,
   "latestWkid": 3949,
   "xyTolerance": 2.0E-4,
   "zTolerance": 0.001,
   "mTolerance": 0.001,
   "falseX": -34427400,
   "falseY": -22373000,
   "xyUnits": 1.2465883587998292E8,
   "falseZ": -100000,
   "zUnits": 10000,
   "falseM": -100000,
   "mUnits": 10000
  }
 },
 "datesInUnknownTimezone": false,
 "minScale": 64000,
 "maxScale": 100,
 "minLOD": 0,
 "maxLOD": 10,
 "units": "esriMeters",
 "supportedImageFormatTypes": "PNG32,PNG24,PNG,JPG,DIB,TIFF,EMF,PS,PDF,GIF,SVG,SVGZ,BMP",
 "documentInfo": {
  "Title": "Limite de la commune",
  "Author": "",
  "Comments": "Limite de la commune",
  "Subject": "Limite de la commune",
  "Category": "",
  "Version": "3.3.0",
  "AntialiasingMode": "Fast",
  "TextAntialiasingMode": "Force",
  "Keywords": "Limite de la commune"
 },
 "supportsQueryDomains": true,
 "capabilities": "Query,Map,Data",
 "supportedQueryFormats": "JSON, geoJSON, PBF",
 "exportTilesAllowed": false,
 "referenceScale": 0.0,
 "supportsDatumTransformation": true,
 "floorAwareMapProperties": {
  "defaultFloorFilterSettings": {
   "isEnabled": true
  }
 },
 "archivingInfo": {
  "supportsHistoricMoment": false
 },
 "supportsClipping": true,
 "supportsSpatialFilter": true,
 "supportsTimeRelation": true,
 "supportsQueryDataElements": true,
 "mapUnits": {
  "uwkid": 9001
 },
 "maxRecordCount": 2000,
 "maxImageHeight": 4096,
 "maxImageWidth": 4096,
 "supportedExtensions": "",
 "serviceItemId": "218b8c5de2cf45e4864f2100a1a6225c"
}
