{ "currentVersion": 11.3, "cimVersion": "3.3.0", "serviceDescription": "
Plan de ville schématique<\/SPAN><\/P><\/DIV><\/DIV>",
"mapName": "Plan_ville",
"description": " Plan de ville schématique<\/SPAN><\/P><\/DIV><\/DIV>",
"copyrightText": "Plan de ville schématique - Février 2022",
"supportsDynamicLayers": true,
"layers": [
{
"id": 0,
"name": "Fond de plan - Communes limitrophes - Limites",
"parentLayerId": -1,
"defaultVisibility": true,
"subLayerIds": null,
"minScale": 0,
"maxScale": 0,
"type": "Feature Layer",
"geometryType": "esriGeometryPolygon",
"supportsDynamicLegends": true
},
{
"id": 1,
"name": "Fond de plan - Adresse de voirie",
"parentLayerId": -1,
"defaultVisibility": true,
"subLayerIds": null,
"minScale": 999,
"maxScale": 0,
"type": "Feature Layer",
"geometryType": "esriGeometryPoint",
"supportsDynamicLegends": true
},
{
"id": 2,
"name": "Fond de plan - Toponymes structurants",
"parentLayerId": -1,
"defaultVisibility": true,
"subLayerIds": null,
"minScale": 32000,
"maxScale": 0,
"type": "Feature Layer",
"geometryType": "esriGeometryPoint",
"supportsDynamicLegends": true
},
{
"id": 3,
"name": "Fond de plan - Nom des voies < 2000eme",
"parentLayerId": -1,
"defaultVisibility": true,
"subLayerIds": null,
"minScale": 2000,
"maxScale": 0,
"type": "Feature Layer",
"geometryType": "esriGeometryPolyline",
"supportsDynamicLegends": true
},
{
"id": 4,
"name": "Fond de plan - Nom des voies < 4000eme et >2000eme",
"parentLayerId": -1,
"defaultVisibility": true,
"subLayerIds": null,
"minScale": 4001,
"maxScale": 2001,
"type": "Feature Layer",
"geometryType": "esriGeometryPolyline",
"supportsDynamicLegends": true
},
{
"id": 5,
"name": "Fond de plan - Nom des voies > 4000eme",
"parentLayerId": -1,
"defaultVisibility": true,
"subLayerIds": null,
"minScale": 8001,
"maxScale": 4001,
"type": "Feature Layer",
"geometryType": "esriGeometryPolyline",
"supportsDynamicLegends": true
},
{
"id": 6,
"name": "Fond de plan - Limites des villages (quartiers)",
"parentLayerId": -1,
"defaultVisibility": true,
"subLayerIds": null,
"minScale": 64001,
"maxScale": 2001,
"type": "Feature Layer",
"geometryType": "esriGeometryPolygon",
"supportsDynamicLegends": true
},
{
"id": 7,
"name": "Fond de plan - Réseau ferré",
"parentLayerId": -1,
"defaultVisibility": true,
"subLayerIds": null,
"minScale": 16001,
"maxScale": 0,
"type": "Feature Layer",
"geometryType": "esriGeometryPolyline",
"supportsDynamicLegends": true
},
{
"id": 8,
"name": "Fond de plan - Arbres voirie < 1000ème",
"parentLayerId": -1,
"defaultVisibility": true,
"subLayerIds": null,
"minScale": 1000,
"maxScale": 0,
"type": "Feature Layer",
"geometryType": "esriGeometryPoint",
"supportsDynamicLegends": true
},
{
"id": 9,
"name": "Fond de plan - Arbres voirie > 1000ème",
"parentLayerId": -1,
"defaultVisibility": true,
"subLayerIds": null,
"minScale": 2000,
"maxScale": 1001,
"type": "Feature Layer",
"geometryType": "esriGeometryPoint",
"supportsDynamicLegends": true
},
{
"id": 10,
"name": "Fond de plan - Bâtiments",
"parentLayerId": -1,
"defaultVisibility": true,
"subLayerIds": null,
"minScale": 2000,
"maxScale": 0,
"type": "Feature Layer",
"geometryType": "esriGeometryPolygon",
"supportsDynamicLegends": true
},
{
"id": 11,
"name": "Fond de plan - Terrain de sport",
"parentLayerId": -1,
"defaultVisibility": true,
"subLayerIds": null,
"minScale": 4000,
"maxScale": 0,
"type": "Feature Layer",
"geometryType": "esriGeometryPolyline",
"supportsDynamicLegends": true
},
{
"id": 12,
"name": "Fond de plan - Cimetière",
"parentLayerId": -1,
"defaultVisibility": true,
"subLayerIds": null,
"minScale": 32000,
"maxScale": 0,
"type": "Feature Layer",
"geometryType": "esriGeometryPolygon",
"supportsDynamicLegends": true
},
{
"id": 13,
"name": "Fond de plan - Zones de travaux",
"parentLayerId": -1,
"defaultVisibility": true,
"subLayerIds": null,
"minScale": 5001,
"maxScale": 0,
"type": "Feature Layer",
"geometryType": "esriGeometryPolygon",
"supportsDynamicLegends": true
},
{
"id": 14,
"name": "Fond de plan - Voie des parcs",
"parentLayerId": -1,
"defaultVisibility": true,
"subLayerIds": null,
"minScale": 2900,
"maxScale": 0,
"type": "Feature Layer",
"geometryType": "esriGeometryPolyline",
"supportsDynamicLegends": true
},
{
"id": 15,
"name": "Fond de plan - Réseau routier - Ronds points",
"parentLayerId": -1,
"defaultVisibility": true,
"subLayerIds": null,
"minScale": 4000,
"maxScale": 0,
"type": "Feature Layer",
"geometryType": "esriGeometryPolygon",
"supportsDynamicLegends": true
},
{
"id": 16,
"name": "Fond de plan - Réseau routier - Sens uniques voitures",
"parentLayerId": -1,
"defaultVisibility": true,
"subLayerIds": null,
"minScale": 3999,
"maxScale": 0,
"type": "Feature Layer",
"geometryType": "esriGeometryPolyline",
"supportsDynamicLegends": true
},
{
"id": 17,
"name": "Fond de plan - Réseau routier - 500eme",
"parentLayerId": -1,
"defaultVisibility": true,
"subLayerIds": null,
"minScale": 500,
"maxScale": 0,
"type": "Feature Layer",
"geometryType": "esriGeometryPolyline",
"supportsDynamicLegends": true
},
{
"id": 18,
"name": "Fond de plan - Réseau routier - 1000eme",
"parentLayerId": -1,
"defaultVisibility": true,
"subLayerIds": null,
"minScale": 1000,
"maxScale": 501,
"type": "Feature Layer",
"geometryType": "esriGeometryPolyline",
"supportsDynamicLegends": true
},
{
"id": 19,
"name": "Fond de plan - Réseau routier - 2000eme",
"parentLayerId": -1,
"defaultVisibility": true,
"subLayerIds": null,
"minScale": 2000,
"maxScale": 1001,
"type": "Feature Layer",
"geometryType": "esriGeometryPolyline",
"supportsDynamicLegends": true
},
{
"id": 20,
"name": "Fond de plan - Réseau routier - 5000eme",
"parentLayerId": -1,
"defaultVisibility": true,
"subLayerIds": null,
"minScale": 5000,
"maxScale": 2001,
"type": "Feature Layer",
"geometryType": "esriGeometryPolyline",
"supportsDynamicLegends": true
},
{
"id": 21,
"name": "Fond de plan - Réseau routier - 8000eme",
"parentLayerId": -1,
"defaultVisibility": true,
"subLayerIds": null,
"minScale": 8000,
"maxScale": 5001,
"type": "Feature Layer",
"geometryType": "esriGeometryPolyline",
"supportsDynamicLegends": true
},
{
"id": 22,
"name": "Fond de plan - Réseau routier - 16000eme",
"parentLayerId": -1,
"defaultVisibility": true,
"subLayerIds": null,
"minScale": 16000,
"maxScale": 8001,
"type": "Feature Layer",
"geometryType": "esriGeometryPolyline",
"supportsDynamicLegends": true
},
{
"id": 23,
"name": "Fond de plan - Hydrographie",
"parentLayerId": -1,
"defaultVisibility": true,
"subLayerIds": null,
"minScale": 0,
"maxScale": 0,
"type": "Feature Layer",
"geometryType": "esriGeometryPolygon",
"supportsDynamicLegends": true
},
{
"id": 24,
"name": "Fond de plan - Espaces verts",
"parentLayerId": -1,
"defaultVisibility": true,
"subLayerIds": null,
"minScale": 0,
"maxScale": 0,
"type": "Feature Layer",
"geometryType": "esriGeometryPolygon",
"supportsDynamicLegends": true
},
{
"id": 25,
"name": "Fond de plan - Espaces verts Jacques Chirac et Cardinal",
"parentLayerId": -1,
"defaultVisibility": true,
"subLayerIds": null,
"minScale": 0,
"maxScale": 0,
"type": "Feature Layer",
"geometryType": "esriGeometryPolygon",
"supportsDynamicLegends": true
},
{
"id": 26,
"name": "Fond de plan - Espaces verts privés et hors ville",
"parentLayerId": -1,
"defaultVisibility": true,
"subLayerIds": null,
"minScale": 0,
"maxScale": 0,
"type": "Feature Layer",
"geometryType": "esriGeometryPolygon",
"supportsDynamicLegends": true
},
{
"id": 100,
"name": "Fond de plan - Domaine public",
"parentLayerId": -1,
"defaultVisibility": true,
"subLayerIds": null,
"minScale": 0,
"maxScale": 0,
"type": "Feature Layer",
"geometryType": "esriGeometryPolygon",
"supportsDynamicLegends": true
},
{
"id": 27,
"name": "Fond de plan - Territoire de Rueil-Malmaison",
"parentLayerId": -1,
"defaultVisibility": true,
"subLayerIds": null,
"minScale": 0,
"maxScale": 0,
"type": "Feature Layer",
"geometryType": "esriGeometryPolygon",
"supportsDynamicLegends": true
},
{
"id": 28,
"name": "Fond de plan - Communes limitrophes - Territoire",
"parentLayerId": -1,
"defaultVisibility": true,
"subLayerIds": null,
"minScale": 0,
"maxScale": 0,
"type": "Feature Layer",
"geometryType": "esriGeometryPolygon",
"supportsDynamicLegends": true
}
],
"tables": [],
"spatialReference": {
"wkid": 3949,
"latestWkid": 3949,
"xyTolerance": 0.001,
"zTolerance": 0.001,
"mTolerance": 0.001,
"falseX": -34427400,
"falseY": -22373000,
"xyUnits": 10000,
"falseZ": -100000,
"zUnits": 10000,
"falseM": -100000,
"mUnits": 10000
},
"singleFusedMapCache": true,
"tileInfo": {
"rows": 256,
"cols": 256,
"dpi": 96,
"format": "MIXED",
"compressionQuality": 75,
"origin": {
"x": -34427400,
"y": 49881800
},
"spatialReference": {
"wkid": 3949,
"latestWkid": 3949,
"xyTolerance": 0.001,
"zTolerance": 0.001,
"mTolerance": 0.001,
"falseX": -34427400,
"falseY": -22373000,
"xyUnits": 1.2465883587998292E8,
"falseZ": -100000,
"zUnits": 10000,
"falseM": -100000,
"mUnits": 10000
},
"lods": [
{
"level": 0,
"resolution": 16.933367200067735,
"scale": 64000
},
{
"level": 1,
"resolution": 8.466683600033868,
"scale": 32000
},
{
"level": 2,
"resolution": 4.233341800016934,
"scale": 16000
},
{
"level": 3,
"resolution": 2.116670900008467,
"scale": 8000
},
{
"level": 4,
"resolution": 1.3229193125052918,
"scale": 5000
},
{
"level": 5,
"resolution": 1.0583354500042335,
"scale": 4000
},
{
"level": 6,
"resolution": 0.5291677250021167,
"scale": 2000
},
{
"level": 7,
"resolution": 0.26458386250105836,
"scale": 1000
},
{
"level": 8,
"resolution": 0.13229193125052918,
"scale": 500
},
{
"level": 9,
"resolution": 0.06614596562526459,
"scale": 250
},
{
"level": 10,
"resolution": 0.026458386250105836,
"scale": 100
}
]
},
"storageInfo": {
"storageFormat": "esriMapCacheStorageModeCompactV2",
"packetSize": 128
},
"initialExtent": {
"xmin": 1637131.2887685786,
"ymin": 8183911.084353612,
"xmax": 1642192.1987377445,
"ymax": 8188332.800641679,
"spatialReference": {
"wkid": 3949,
"latestWkid": 3949,
"xyTolerance": 0.001,
"zTolerance": 0.001,
"mTolerance": 0.001,
"falseX": -34427400,
"falseY": -22373000,
"xyUnits": 10000,
"falseZ": -100000,
"zUnits": 10000,
"falseM": -100000,
"mUnits": 10000
}
},
"fullExtent": {
"xmin": 1634572.3200000003,
"ymin": 8180265.75,
"xmax": 1647502.710000001,
"ymax": 8193346.609999999,
"spatialReference": {
"wkid": 3949,
"latestWkid": 3949,
"xyTolerance": 0.001,
"zTolerance": 0.001,
"mTolerance": 0.001,
"falseX": -34427400,
"falseY": -22373000,
"xyUnits": 10000,
"falseZ": -100000,
"zUnits": 10000,
"falseM": -100000,
"mUnits": 10000
}
},
"datesInUnknownTimezone": false,
"minScale": 64000,
"maxScale": 100,
"units": "esriMeters",
"supportedImageFormatTypes": "PNG32,PNG24,PNG,JPG,DIB,TIFF,EMF,PS,PDF,GIF,SVG,SVGZ,BMP",
"documentInfo": {
"Title": "Plan de ville schématique",
"Author": "",
"Comments": " Plan de ville schématique<\/SPAN><\/P><\/DIV><\/DIV>",
"Subject": "Plan de ville schématique",
"Category": "",
"Version": "2.9.0",
"AntialiasingMode": "Fast",
"TextAntialiasingMode": "Force",
"Keywords": "Plan de ville schématique"
},
"supportsQueryDomains": true,
"capabilities": "Map,Query,Data",
"supportedQueryFormats": "JSON, geoJSON, PBF",
"exportTilesAllowed": false,
"referenceScale": 0.0,
"supportsDatumTransformation": true,
"archivingInfo": {"supportsHistoricMoment": false},
"supportsClipping": true,
"supportsSpatialFilter": true,
"supportsTimeRelation": true,
"supportsQueryDataElements": true,
"mapUnits": {"uwkid": 9001},
"maxRecordCount": 2000,
"maxImageHeight": 4096,
"maxImageWidth": 4096,
"supportedExtensions": "",
"serviceItemId": "1b6937053e954cd9b8a1fa1c0c7d2b78"
}